3.281425205858477
0.000000000000000
0.000000000000000
-3.281425205858477
1985639.972169131500000
339840.374551274170000
