3.281026144065655
0.000000000000000
0.000000000000000
-3.281026144065655
2094362.776042355200000
979906.354972206520000
