3.280535420368305
0.000000000000000
0.000000000000000
-3.280535420368305
523665.357909505720000
728372.025391103350000
