3.280281116873008
0.000000000000000
0.000000000000000
-3.280281116873008
684207.488808747030000
996485.163717029500000
