3.281930099956980
0.000000000000000
0.000000000000000
-3.281930099956980
1822984.405724394800000
1158980.012750431400000
