3.281269283253218
0.000000000000000
0.000000000000000
-3.281269283253218
1569703.828466686700000
1111142.032131914000000
