3.281236193406689
0.000000000000000
0.000000000000000
-3.281236193406689
1793683.825604026000000
451646.006598759560000
