3.280064345074870
0.000000000000000
0.000000000000000
-3.280064345074870
2358529.589395743800000
623618.174531748290000
