3.280792013113039
0.000000000000000
0.000000000000000
-3.280792013113039
2309420.740005721800000
1121931.261696529600000
