3.279395319058904
0.000000000000000
0.000000000000000
-3.279395319058904
1062608.829247034200000
344043.469010856930000
