3.280308504956649
0.000000000000000
0.000000000000000
-3.280308504956649
1063103.093015253800000
1190955.209073218300000
