3.279914092926999
0.000000000000000
0.000000000000000
-3.279914092926999
688174.514568948770000
631901.411882104000000
