3.281242748266497
0.000000000000000
0.000000000000000
-3.281242748266497
2106802.112703229800000
342610.221663878360000
