3.279738105142658
0.000000000000000
0.000000000000000
-3.279738105142658
2435888.857143969700000
855046.388852797570000
