3.280868867568393
0.000000000000000
0.000000000000000
-3.280868867568393
1552085.132185205600000
702883.743146648280000
