3.279762120842932
0.000000000000000
0.000000000000000
-3.279762120842932
2514621.813199552200000
1014856.821048312900000
