3.280848303747653
0.000000000000000
0.000000000000000
-3.280848303747653
672962.929095506090000
1201832.757866993500000
