3.281042251586985
0.000000000000000
0.000000000000000
-3.281042251586985
1568535.241088724700000
451613.249172660580000
