3.279034853840353
0.000000000000000
0.000000000000000
-3.279034853840353
912628.574346608250000
533350.676252764420000
