3.279439238130603
0.000000000000000
0.000000000000000
-3.279439238130603
2474611.332968561400000
719627.973438332910000
