3.278749358762484
0.000000000000000
0.000000000000000
-3.278749358762484
2598454.670453786800000
612535.249218569370000
