3.279760566009449
0.000000000000000
0.000000000000000
-3.279760566009449
1060174.935025001400000
207453.024815331650000
