3.281926791004796
0.000000000000000
0.000000000000000
-3.281926791004796
1865415.725371208700000
201108.258135144050000
