3.280935123231023
0.000000000000000
0.000000000000000
-3.280935123231023
1411069.166860282200000
338723.542557544130000
