3.281680163235782
0.000000000000000
0.000000000000000
-3.281680163235782
1567519.919895990100000
200588.751463320340000
