3.281276045817363
0.000000000000000
0.000000000000000
-3.281276045817363
1602754.051988572300000
336107.436770030820000
