3.278997820189000
0.000000000000000
0.000000000000000
-3.278997820189000
1057344.465265457800000
844682.727269187220000
