3.280963770309176
0.000000000000000
0.000000000000000
-3.280963770309176
1963324.835889688700000
704013.786120498670000
