3.281150952570456
0.000000000000000
0.000000000000000
-3.281150952570456
1983994.805438434000000
453641.724714291050000
