3.280937615579378
0.000000000000000
0.000000000000000
-3.280937615579378
2104411.030881484500000
501917.905989037830000
