3.281877540974927
0.000000000000000
0.000000000000000
-3.281877540974927
1725231.831375822900000
200279.698174833260000
