3.280260343382647
0.000000000000000
0.000000000000000
-3.280260343382647
1254252.572969070200000
339888.659584975980000
