3.281512900124860
0.000000000000000
0.000000000000000
-3.281512900124860
1823088.499897536800000
1135747.380780608400000
