3.279848951666092
0.000000000000000
0.000000000000000
-3.279848951666092
1245032.824487505000000
841032.717210303530000
