3.280896719860290
0.000000000000000
0.000000000000000
-3.280896719860290
2370539.286358917100000
214104.902033348570000
