3.279473121350521
0.000000000000000
0.000000000000000
-3.279473121350521
2611372.893262422200000
291575.149026778470000
