3.281496785148514
0.000000000000000
0.000000000000000
-3.281496785148514
1864130.305724991700000
337686.678686636910000
