3.4802080900
0.0000000000
0.0000000000
-3.4802080900
2935554.4401040450
96307.1119959550
