3.3125624601
0.0000000000
0.0000000000
-3.3125624600
2725686.6362812300
85828.5271187700
