3.3129638298
0.0000000000
0.0000000000
-3.3129638300
2445738.5464819153
74692.7060180850
