3.3127370202
0.0000000000
0.0000000000
-3.3127370200
2165682.8263685098
66795.3281314900
