3.3119626099
0.0000000000
0.0000000000
-3.3119626100
1885556.7759813052
62139.6412186950
