3.3108734500
0.0000000000
0.0000000000
-3.3108734500
1605365.0354367248
60740.8365632750
