3.3092982799
0.0000000000
0.0000000000
-3.3092982800
1342472.8246491400
62544.2873508600
