3.4800499002
0.0000000000
0.0000000000
-3.4800499000
2934337.0900249500
119041.5519750500
