3.3123370898
0.0000000000
0.0000000000
-3.3123370900
2724666.5161685450
108574.7658314550
