3.3127743597
0.0000000000
0.0000000000
-3.3127743600
2444981.5963871800
97446.8698128200
