3.3116807197
0.0000000000
0.0000000000
-3.3116807200
2248601.8558403603
250987.3401596400
