3.3125843201
0.0000000000
0.0000000000
-3.3125843200
2165189.0962921600
89556.9928078400
