3.3118475301
0.0000000000
0.0000000000
-3.3118475300
1885326.3659237649
84902.4513762350
